BEGIN:VCALENDAR
VERSION:2.0
PRODID:-//Trambahn.de - ECPv6.15.20//NONSGML v1.0//EN
CALSCALE:GREGORIAN
METHOD:PUBLISH
X-ORIGINAL-URL:https://trambahn.org
X-WR-CALDESC:Veranstaltungen für Trambahn.de
REFRESH-INTERVAL;VALUE=DURATION:PT1H
X-Robots-Tag:noindex
X-PUBLISHED-TTL:PT1H
BEGIN:VTIMEZONE
TZID:Europe/Berlin
BEGIN:DAYLIGHT
TZOFFSETFROM:+0100
TZOFFSETTO:+0200
TZNAME:CEST
DTSTART:20240331T010000
END:DAYLIGHT
BEGIN:STANDARD
TZOFFSETFROM:+0200
TZOFFSETTO:+0100
TZNAME:CET
DTSTART:20241027T010000
END:STANDARD
BEGIN:DAYLIGHT
TZOFFSETFROM:+0100
TZOFFSETTO:+0200
TZNAME:CEST
DTSTART:20250330T010000
END:DAYLIGHT
BEGIN:STANDARD
TZOFFSETFROM:+0200
TZOFFSETTO:+0100
TZNAME:CET
DTSTART:20251026T010000
END:STANDARD
BEGIN:DAYLIGHT
TZOFFSETFROM:+0100
TZOFFSETTO:+0200
TZNAME:CEST
DTSTART:20260329T010000
END:DAYLIGHT
BEGIN:STANDARD
TZOFFSETFROM:+0200
TZOFFSETTO:+0100
TZNAME:CET
DTSTART:20261025T010000
END:STANDARD
END:VTIMEZONE
BEGIN:VEVENT
DTSTART;TZID=Europe/Berlin:20251112T190000
DTEND;TZID=Europe/Berlin:20251112T230000
DTSTAMP:20260426T003010
CREATED:20251111T090224Z
LAST-MODIFIED:20251111T090226Z
UID:18386-1762974000-1762988400@trambahn.org
SUMMARY:November-Vereinsabend FMTM in in der Harlachinger Gartenstadt
DESCRIPTION:Liebe Vereinsmitglieder und Gäste\, wir treffen uns wieder wie immer jeden 2.Mittwoch im Monat zu unserem Vereinsabend. Ich hatte leider die Ankündigung etwas verschlafen\, weil ich tausend Sachen nebenbei gemacht hatte\, sorry! Es wird keinen Vortrag geben\, aber wir hatten die letzten Male immer einen großen Tisch gebildet\, der sich als Gesprächs- und Diskussionsmittelpunkt bewährt hat.  \n\n\n\nIm nächsten Jahr wird es wieder regelmäßige Vortrage und Bilderstrecken zu verschiedenen Trambahn-Themen aus München\, dem In- und Ausland auf den Vereinsabenden geben\, ihr dürft gespannt sein. \n\n\n\nWir sehen uns am Mittwoch! \n\n\n\nHarlachinger Gartenstadt / Naupliastraße 1 / U1 bis Mangfallplatz
URL:https://trambahn.org/event/november-vereinsabend-fmtm-in-in-der-harlachinger-gartenstadt/
END:VEVENT
END:VCALENDAR