BEGIN:VCALENDAR
VERSION:2.0
PRODID:-//Trambahn.de - ECPv6.15.18//NONSGML v1.0//EN
CALSCALE:GREGORIAN
METHOD:PUBLISH
X-ORIGINAL-URL:https://trambahn.org
X-WR-CALDESC:Veranstaltungen für Trambahn.de
REFRESH-INTERVAL;VALUE=DURATION:PT1H
X-Robots-Tag:noindex
X-PUBLISHED-TTL:PT1H
BEGIN:VTIMEZONE
TZID:Europe/Berlin
BEGIN:DAYLIGHT
TZOFFSETFROM:+0100
TZOFFSETTO:+0200
TZNAME:CEST
DTSTART:20250330T010000
END:DAYLIGHT
BEGIN:STANDARD
TZOFFSETFROM:+0200
TZOFFSETTO:+0100
TZNAME:CET
DTSTART:20251026T010000
END:STANDARD
BEGIN:DAYLIGHT
TZOFFSETFROM:+0100
TZOFFSETTO:+0200
TZNAME:CEST
DTSTART:20260329T010000
END:DAYLIGHT
BEGIN:STANDARD
TZOFFSETFROM:+0200
TZOFFSETTO:+0100
TZNAME:CET
DTSTART:20261025T010000
END:STANDARD
BEGIN:DAYLIGHT
TZOFFSETFROM:+0100
TZOFFSETTO:+0200
TZNAME:CEST
DTSTART:20270328T010000
END:DAYLIGHT
BEGIN:STANDARD
TZOFFSETFROM:+0200
TZOFFSETTO:+0100
TZNAME:CET
DTSTART:20271031T010000
END:STANDARD
END:VTIMEZONE
BEGIN:VEVENT
DTSTART;TZID=Europe/Berlin:20260412T110000
DTEND;TZID=Europe/Berlin:20260412T170000
DTSTAMP:20260421T095822
CREATED:20251219T121102Z
LAST-MODIFIED:20260409T105639Z
UID:18430-1775991600-1776013200@trambahn.org
SUMMARY:Das MVG-Museum hat geöffnet mit Blick hinter die Kulissen bei Werkstattführung
DESCRIPTION:Das MVG-Museum bereitet sich auf den 150. Geburtstag der Münchner Trambahn vor. Wir zeigen alle Münchner Verkehrsmittel von der Pferdetram bis zur modernen „Elektrischen“. \n\n\n\nAm Sonntag\, 12. April 2026 gibt es als Besonderheit beim Öffnungstag des MVG-Museums von 11 bis 17 Uhr einen Blick hinter die Kulissen mit Führungen durch die Tram-Werkstatt. Eine vorherige Anmeldung ist nicht nötig. \n\n\n\nDie Hauptwerkstätte in der Ständlerstraße 20\, gleich hinter dem MVG-Museum\, ist seit 1924 zu einer Hauptwerkstätte ausgebaut worden. Im Krieg stark beschädigt\, begannen 1949 wieder erste Lehrlingsausbildungen in den Betriebshallen\, die nun am Sonntag besichtigt werden können. \n\n\n\n\n\n\n\nAnfahrt: Das MVG Museum ist in der Ständlerstraße 20. Es ist mit der Tram 18 (Schwanseestraße) sowie den Buslinien 139 und 145 (Ständlerstraße) zu erreichen. Zusätzlich fährt der kostenlose Bus-Shuttle: Die Sonderlinie 07 pendelt zwischen Giesing Bahnhof und MVG Museum. Fahrplan: Ab Giesing Bf. ab 10.55 Uhr alle halbe Stunde.
URL:https://trambahn.org/event/das-mvg-museum-hat-geoeffnet-30/
END:VEVENT
END:VCALENDAR