BEGIN:VCALENDAR
VERSION:2.0
PRODID:-//Trambahn.de - ECPv6.15.18//NONSGML v1.0//EN
CALSCALE:GREGORIAN
METHOD:PUBLISH
X-WR-CALNAME:Trambahn.de
X-ORIGINAL-URL:https://trambahn.org
X-WR-CALDESC:Veranstaltungen für Trambahn.de
REFRESH-INTERVAL;VALUE=DURATION:PT1H
X-Robots-Tag:noindex
X-PUBLISHED-TTL:PT1H
BEGIN:VTIMEZONE
TZID:Europe/Berlin
BEGIN:DAYLIGHT
TZOFFSETFROM:+0100
TZOFFSETTO:+0200
TZNAME:CEST
DTSTART:20250330T010000
END:DAYLIGHT
BEGIN:STANDARD
TZOFFSETFROM:+0200
TZOFFSETTO:+0100
TZNAME:CET
DTSTART:20251026T010000
END:STANDARD
BEGIN:DAYLIGHT
TZOFFSETFROM:+0100
TZOFFSETTO:+0200
TZNAME:CEST
DTSTART:20260329T010000
END:DAYLIGHT
BEGIN:STANDARD
TZOFFSETFROM:+0200
TZOFFSETTO:+0100
TZNAME:CET
DTSTART:20261025T010000
END:STANDARD
BEGIN:DAYLIGHT
TZOFFSETFROM:+0100
TZOFFSETTO:+0200
TZNAME:CEST
DTSTART:20270328T010000
END:DAYLIGHT
BEGIN:STANDARD
TZOFFSETFROM:+0200
TZOFFSETTO:+0100
TZNAME:CET
DTSTART:20271031T010000
END:STANDARD
END:VTIMEZONE
BEGIN:VEVENT
DTSTART;TZID=Europe/Berlin:20260513T190000
DTEND;TZID=Europe/Berlin:20260513T230000
DTSTAMP:20260421T140102
CREATED:20251219T122353Z
LAST-MODIFIED:20251219T122355Z
UID:18437-1778698800-1778713200@trambahn.org
SUMMARY:FMTM-Vereinsabend im Mai
DESCRIPTION:Heute Abend sitzen wieder die Trambahn-Experten und die\, die es werden wollen in der Harlachinger Gartenstadt zusammen. Gäste jederzeit willkommen!
URL:https://trambahn.org/event/fmtm-vereinsabend-im-mai/
END:VEVENT
END:VCALENDAR