BEGIN:VCALENDAR
VERSION:2.0
PRODID:-//Trambahn.de - ECPv6.15.18//NONSGML v1.0//EN
CALSCALE:GREGORIAN
METHOD:PUBLISH
X-WR-CALNAME:Trambahn.de
X-ORIGINAL-URL:https://trambahn.org
X-WR-CALDESC:Veranstaltungen für Trambahn.de
REFRESH-INTERVAL;VALUE=DURATION:PT1H
X-Robots-Tag:noindex
X-PUBLISHED-TTL:PT1H
BEGIN:VTIMEZONE
TZID:Europe/Berlin
BEGIN:DAYLIGHT
TZOFFSETFROM:+0100
TZOFFSETTO:+0200
TZNAME:CEST
DTSTART:20240331T010000
END:DAYLIGHT
BEGIN:STANDARD
TZOFFSETFROM:+0200
TZOFFSETTO:+0100
TZNAME:CET
DTSTART:20241027T010000
END:STANDARD
BEGIN:DAYLIGHT
TZOFFSETFROM:+0100
TZOFFSETTO:+0200
TZNAME:CEST
DTSTART:20250330T010000
END:DAYLIGHT
BEGIN:STANDARD
TZOFFSETFROM:+0200
TZOFFSETTO:+0100
TZNAME:CET
DTSTART:20251026T010000
END:STANDARD
BEGIN:DAYLIGHT
TZOFFSETFROM:+0100
TZOFFSETTO:+0200
TZNAME:CEST
DTSTART:20260329T010000
END:DAYLIGHT
BEGIN:STANDARD
TZOFFSETFROM:+0200
TZOFFSETTO:+0100
TZNAME:CET
DTSTART:20261025T010000
END:STANDARD
END:VTIMEZONE
BEGIN:VEVENT
DTSTART;TZID=Europe/Berlin:20251210T190000
DTEND;TZID=Europe/Berlin:20251210T230000
DTSTAMP:20260421T084700
CREATED:20251112T232826Z
LAST-MODIFIED:20251112T232828Z
UID:18388-1765393200-1765407600@trambahn.org
SUMMARY:FMTM-Vereinsabend mit Bilder-Vortrag Hannes Heigl zu Edinburgh -Tram und Frankfurter Tram
DESCRIPTION:
URL:https://trambahn.org/event/fmtm-vereinsabend-mit-bilder-vortrag-hannes-heigl-zu-edinburgh-tram-und-frankfurter-tram/
END:VEVENT
BEGIN:VEVENT
DTSTART;TZID=Europe/Berlin:20251214T110000
DTEND;TZID=Europe/Berlin:20251214T170000
DTSTAMP:20260421T084700
CREATED:20250715T154354Z
LAST-MODIFIED:20250715T154356Z
UID:18023-1765710000-1765731600@trambahn.org
SUMMARY:Das MVG-Museum hat geöffnet
DESCRIPTION:
URL:https://trambahn.org/event/das-mvg-museum-hat-geoeffnet-22/
END:VEVENT
BEGIN:VEVENT
DTSTART;TZID=Europe/Berlin:20251221T110000
DTEND;TZID=Europe/Berlin:20251221T170000
DTSTAMP:20260421T084700
CREATED:20250715T154431Z
LAST-MODIFIED:20250723T100804Z
UID:18025-1766314800-1766336400@trambahn.org
SUMMARY:Das MVG-Museum hat mit Modellbahnbörse geöffnet
DESCRIPTION:
URL:https://trambahn.org/event/das-mvg-museum-hat-geoeffnet-23/
END:VEVENT
END:VCALENDAR