BEGIN:VCALENDAR
VERSION:2.0
PRODID:-//Trambahn.de - ECPv6.15.18//NONSGML v1.0//EN
CALSCALE:GREGORIAN
METHOD:PUBLISH
X-ORIGINAL-URL:https://trambahn.org
X-WR-CALDESC:Veranstaltungen für Trambahn.de
REFRESH-INTERVAL;VALUE=DURATION:PT1H
X-Robots-Tag:noindex
X-PUBLISHED-TTL:PT1H
BEGIN:VTIMEZONE
TZID:Europe/Berlin
BEGIN:DAYLIGHT
TZOFFSETFROM:+0100
TZOFFSETTO:+0200
TZNAME:CEST
DTSTART:20250330T010000
END:DAYLIGHT
BEGIN:STANDARD
TZOFFSETFROM:+0200
TZOFFSETTO:+0100
TZNAME:CET
DTSTART:20251026T010000
END:STANDARD
BEGIN:DAYLIGHT
TZOFFSETFROM:+0100
TZOFFSETTO:+0200
TZNAME:CEST
DTSTART:20260329T010000
END:DAYLIGHT
BEGIN:STANDARD
TZOFFSETFROM:+0200
TZOFFSETTO:+0100
TZNAME:CET
DTSTART:20261025T010000
END:STANDARD
BEGIN:DAYLIGHT
TZOFFSETFROM:+0100
TZOFFSETTO:+0200
TZNAME:CEST
DTSTART:20270328T010000
END:DAYLIGHT
BEGIN:STANDARD
TZOFFSETFROM:+0200
TZOFFSETTO:+0100
TZNAME:CET
DTSTART:20271031T010000
END:STANDARD
END:VTIMEZONE
BEGIN:VEVENT
DTSTART;TZID=Europe/Berlin:20260208T110000
DTEND;TZID=Europe/Berlin:20260208T170000
DTSTAMP:20260421T084810
CREATED:20251219T113750Z
LAST-MODIFIED:20251219T113753Z
UID:18410-1770548400-1770570000@trambahn.org
SUMMARY:Das MVG-Museum hat geöffnet
DESCRIPTION:Im MVG-Museum wartet ein U-Bahnsimulator\, Bus-Simulator und viele interessante Exponate aus dem Münchner öffentlichen Nahverkehr auf Sie.
URL:https://trambahn.org/event/das-mvg-museum-hat-geoeffnet-26/
END:VEVENT
BEGIN:VEVENT
DTSTART;TZID=Europe/Berlin:20260211T190000
DTEND;TZID=Europe/Berlin:20260211T230000
DTSTAMP:20260421T084810
CREATED:20251219T114243Z
LAST-MODIFIED:20260209T102311Z
UID:18412-1770836400-1770850800@trambahn.org
SUMMARY:Änderung! FMTM-Vereinsabend im Februar entfällt!
DESCRIPTION:Leider müssen wir unseren Vereinsabend am Mittwoch\, den 11.Februar\, absagen weil zum einen der Vortragende erkrankt ist und zum anderen wegen des MVG-Streiks das Vereinslokal für die meisten Mitglieder unseres Vereins unerreichbar ist.  \n\n\n\nDas tut uns sehr leid.
URL:https://trambahn.org/event/fmtm-vereinsabend-mit-vortrag-ben-neudek-zu-trambahnen-in-le-havre-strasbourg-bordeaux-toulouse/
END:VEVENT
BEGIN:VEVENT
DTSTART;TZID=Europe/Berlin:20260222T110000
DTEND;TZID=Europe/Berlin:20260222T170000
DTSTAMP:20260421T084810
CREATED:20251225T224022Z
LAST-MODIFIED:20251225T224025Z
UID:18460-1771758000-1771779600@trambahn.org
SUMMARY:Das MVG-Museum hat geöffnet mit Modellbahnbörse
DESCRIPTION:
URL:https://trambahn.org/event/das-mvg-museum-hat-geoeffnet-mit-modellbahnboerse-9/
END:VEVENT
END:VCALENDAR