BEGIN:VCALENDAR
VERSION:2.0
PRODID:-//Trambahn.de - ECPv6.15.18//NONSGML v1.0//EN
CALSCALE:GREGORIAN
METHOD:PUBLISH
X-ORIGINAL-URL:https://trambahn.org
X-WR-CALDESC:Veranstaltungen für Trambahn.de
REFRESH-INTERVAL;VALUE=DURATION:PT1H
X-Robots-Tag:noindex
X-PUBLISHED-TTL:PT1H
BEGIN:VTIMEZONE
TZID:Europe/Berlin
BEGIN:DAYLIGHT
TZOFFSETFROM:+0100
TZOFFSETTO:+0200
TZNAME:CEST
DTSTART:20250330T010000
END:DAYLIGHT
BEGIN:STANDARD
TZOFFSETFROM:+0200
TZOFFSETTO:+0100
TZNAME:CET
DTSTART:20251026T010000
END:STANDARD
BEGIN:DAYLIGHT
TZOFFSETFROM:+0100
TZOFFSETTO:+0200
TZNAME:CEST
DTSTART:20260329T010000
END:DAYLIGHT
BEGIN:STANDARD
TZOFFSETFROM:+0200
TZOFFSETTO:+0100
TZNAME:CET
DTSTART:20261025T010000
END:STANDARD
BEGIN:DAYLIGHT
TZOFFSETFROM:+0100
TZOFFSETTO:+0200
TZNAME:CEST
DTSTART:20270328T010000
END:DAYLIGHT
BEGIN:STANDARD
TZOFFSETFROM:+0200
TZOFFSETTO:+0100
TZNAME:CET
DTSTART:20271031T010000
END:STANDARD
END:VTIMEZONE
BEGIN:VEVENT
DTSTART;TZID=Europe/Berlin:20260308T110000
DTEND;TZID=Europe/Berlin:20260308T170000
DTSTAMP:20260421T085628
CREATED:20251219T115127Z
LAST-MODIFIED:20251219T115129Z
UID:18417-1772967600-1772989200@trambahn.org
SUMMARY:Das MVG-Museum hat geöffnet
DESCRIPTION:Im MVG-Museum gibt es immer was Neues zu entdecken. Im Vorfeld des diesjährigen 150. Geburtstags der Münchner Trambahn gibt es schon einige Überraschungen.
URL:https://trambahn.org/event/das-mvg-museum-hat-geoeffnet-28/
END:VEVENT
BEGIN:VEVENT
DTSTART;TZID=Europe/Berlin:20260311T190000
DTEND;TZID=Europe/Berlin:20260311T230000
DTSTAMP:20260421T085628
CREATED:20251219T115544Z
LAST-MODIFIED:20260210T081606Z
UID:18419-1773255600-1773270000@trambahn.org
SUMMARY:FMTM-Jahreshauptversammlung
DESCRIPTION:Heute findet die diesjährige Jahreshauptversammlung des FMTM statt. Neben Rechenschaftsberichten\, weiteren Berichten und Ausblicken wird es auch Neuwahlen in den Vorstand geben.
URL:https://trambahn.org/event/fmtm-jahreshauptversammlung-mit-wahlen-in-den-vorstand/
END:VEVENT
BEGIN:VEVENT
DTSTART;TZID=Europe/Berlin:20260314T110000
DTEND;TZID=Europe/Berlin:20260315T170000
DTSTAMP:20260421T085628
CREATED:20251219T120139Z
LAST-MODIFIED:20251219T120141Z
UID:18422-1773486000-1773594000@trambahn.org
SUMMARY:Modellbahnausstellungs-Wochenende im MVG-Museum
DESCRIPTION:An diesem Wochenende findet die Modellbahnausstellung im MVG-Museum statt mit interessanten Modellbahnanlagen\, Dioramen und Modellen in vollem Betrieb.
URL:https://trambahn.org/event/modellbahnausstellungs-wochenende-im-mvg-museum/
END:VEVENT
BEGIN:VEVENT
DTSTART;TZID=Europe/Berlin:20260329T110000
DTEND;TZID=Europe/Berlin:20260329T170000
DTSTAMP:20260421T085628
CREATED:20251219T120620Z
LAST-MODIFIED:20251219T120623Z
UID:18425-1774782000-1774803600@trambahn.org
SUMMARY:Das MVG-Museum hat geöffnet
DESCRIPTION:Am Palmsonntag ist nochmal das MVG-Museum mit seiner großen Sammlung an historischen Trambahnen und Bussen geöffnet.
URL:https://trambahn.org/event/das-mvg-museum-hat-geoeffnet-29/
END:VEVENT
END:VCALENDAR