BEGIN:VCALENDAR
VERSION:2.0
PRODID:-//Trambahn.de - ECPv6.15.18//NONSGML v1.0//EN
CALSCALE:GREGORIAN
METHOD:PUBLISH
X-WR-CALNAME:Trambahn.de
X-ORIGINAL-URL:https://trambahn.org
X-WR-CALDESC:Veranstaltungen für Trambahn.de
REFRESH-INTERVAL;VALUE=DURATION:PT1H
X-Robots-Tag:noindex
X-PUBLISHED-TTL:PT1H
BEGIN:VTIMEZONE
TZID:Europe/Berlin
BEGIN:DAYLIGHT
TZOFFSETFROM:+0100
TZOFFSETTO:+0200
TZNAME:CEST
DTSTART:20250330T010000
END:DAYLIGHT
BEGIN:STANDARD
TZOFFSETFROM:+0200
TZOFFSETTO:+0100
TZNAME:CET
DTSTART:20251026T010000
END:STANDARD
BEGIN:DAYLIGHT
TZOFFSETFROM:+0100
TZOFFSETTO:+0200
TZNAME:CEST
DTSTART:20260329T010000
END:DAYLIGHT
BEGIN:STANDARD
TZOFFSETFROM:+0200
TZOFFSETTO:+0100
TZNAME:CET
DTSTART:20261025T010000
END:STANDARD
BEGIN:DAYLIGHT
TZOFFSETFROM:+0100
TZOFFSETTO:+0200
TZNAME:CEST
DTSTART:20270328T010000
END:DAYLIGHT
BEGIN:STANDARD
TZOFFSETFROM:+0200
TZOFFSETTO:+0100
TZNAME:CET
DTSTART:20271031T010000
END:STANDARD
END:VTIMEZONE
BEGIN:VEVENT
DTSTART;TZID=Europe/Berlin:20260708T190000
DTEND;TZID=Europe/Berlin:20260708T230000
DTSTAMP:20260421T084618
CREATED:20251219T124542Z
LAST-MODIFIED:20251219T124544Z
UID:18452-1783537200-1783551600@trambahn.org
SUMMARY:FMTM-Vereinsabend im Juli
DESCRIPTION:Auch heute treffen sich wieder die Trambahnexperten und -Interessierte zum Gedanken- und Meinungsaustausch zum letzten Mal vor der Sommerpause in der Harlachinger Gartenstadt.
URL:https://trambahn.org/event/fmtm-vereinsabend-im-juli-3/
END:VEVENT
BEGIN:VEVENT
DTSTART;TZID=Europe/Berlin:20260712T110000
DTEND;TZID=Europe/Berlin:20260712T170000
DTSTAMP:20260421T084618
CREATED:20251219T124319Z
LAST-MODIFIED:20251219T124321Z
UID:18450-1783854000-1783875600@trambahn.org
SUMMARY:Das MVG-Museum hat geöffnet
DESCRIPTION:Sommeröffnungs-Tag im MVG-Museum mit einer großen Sammlung historischer Fahrzeuge\, Geschichte\, Geschichten und viel Drumherum im Vorfeld des 150. Geburtstags der Münchner Trambahn.
URL:https://trambahn.org/event/das-mvg-museum-hat-geoeffnet-35/
END:VEVENT
BEGIN:VEVENT
DTSTART;TZID=Europe/Berlin:20260726T110000
DTEND;TZID=Europe/Berlin:20260726T170000
DTSTAMP:20260421T084618
CREATED:20251219T125113Z
LAST-MODIFIED:20251219T125115Z
UID:18454-1785063600-1785085200@trambahn.org
SUMMARY:Das MVG-Museum verabschiedet sich mit einem Sommerfest in die Sommerpause
DESCRIPTION:Bevor unsere alten Damen im Museum in die wohlverdienten Sommerpause gehen\, warten sie nochmal auf Ihren Besuch.
URL:https://trambahn.org/event/das-mvg-museum-verabschiedet-sich-mit-einem-sommerfest-in-die-sommerpause/
END:VEVENT
END:VCALENDAR